BEGIN:VCALENDAR
VERSION:2.0
PRODID:-//LWO - ECPv6.15.20//NONSGML v1.0//EN
CALSCALE:GREGORIAN
METHOD:PUBLISH
X-WR-CALNAME:LWO
X-ORIGINAL-URL:https://www.lwo.lu/cms-site
X-WR-CALDESC:Veranstaltungen für LWO
REFRESH-INTERVAL;VALUE=DURATION:PT1H
X-Robots-Tag:noindex
X-PUBLISHED-TTL:PT1H
BEGIN:VTIMEZONE
TZID:Europe/Paris
BEGIN:DAYLIGHT
TZOFFSETFROM:+0100
TZOFFSETTO:+0200
TZNAME:CEST
DTSTART:20170326T010000
END:DAYLIGHT
BEGIN:STANDARD
TZOFFSETFROM:+0200
TZOFFSETTO:+0100
TZNAME:CET
DTSTART:20171029T010000
END:STANDARD
BEGIN:DAYLIGHT
TZOFFSETFROM:+0100
TZOFFSETTO:+0200
TZNAME:CEST
DTSTART:20180325T010000
END:DAYLIGHT
BEGIN:STANDARD
TZOFFSETFROM:+0200
TZOFFSETTO:+0100
TZNAME:CET
DTSTART:20181028T010000
END:STANDARD
BEGIN:DAYLIGHT
TZOFFSETFROM:+0100
TZOFFSETTO:+0200
TZNAME:CEST
DTSTART:20190331T010000
END:DAYLIGHT
BEGIN:STANDARD
TZOFFSETFROM:+0200
TZOFFSETTO:+0100
TZNAME:CET
DTSTART:20191027T010000
END:STANDARD
END:VTIMEZONE
BEGIN:VEVENT
DTSTART;TZID=Europe/Paris:20180930T170000
DTEND;TZID=Europe/Paris:20180930T190000
DTSTAMP:20260425T143835
CREATED:20180703T081137Z
LAST-MODIFIED:20180703T093623Z
UID:178-1538326800-1538334000@www.lwo.lu
SUMMARY:Concert de Gala
DESCRIPTION:Direction: Philippe Noesen \nOeuvres de James L. Hosay\, Johan de Meij\, James Horner\, Oliver Waespi\, Samuel Hazo\, Rossano Galante
URL:https://www.lwo.lu/cms-site/event/concert-au-conservatoire-de-luxembourg-30-09-2018/
LOCATION:Conservatoire de Luxembourg\, 33\, rue Charles Martel\, Luxembourg\, 2134\, Luxemburg
ORGANIZER;CN="LWO":MAILTO:info@lwo.lu
END:VEVENT
END:VCALENDAR