BEGIN:VCALENDAR
VERSION:2.0
PRODID:-//LWO - ECPv6.15.20//NONSGML v1.0//EN
CALSCALE:GREGORIAN
METHOD:PUBLISH
X-ORIGINAL-URL:https://www.lwo.lu/cms-site
X-WR-CALDESC:Veranstaltungen für LWO
REFRESH-INTERVAL;VALUE=DURATION:PT1H
X-Robots-Tag:noindex
X-PUBLISHED-TTL:PT1H
BEGIN:VTIMEZONE
TZID:Europe/Paris
BEGIN:DAYLIGHT
TZOFFSETFROM:+0100
TZOFFSETTO:+0200
TZNAME:CEST
DTSTART:20160327T010000
END:DAYLIGHT
BEGIN:STANDARD
TZOFFSETFROM:+0200
TZOFFSETTO:+0100
TZNAME:CET
DTSTART:20161030T010000
END:STANDARD
BEGIN:DAYLIGHT
TZOFFSETFROM:+0100
TZOFFSETTO:+0200
TZNAME:CEST
DTSTART:20170326T010000
END:DAYLIGHT
BEGIN:STANDARD
TZOFFSETFROM:+0200
TZOFFSETTO:+0100
TZNAME:CET
DTSTART:20171029T010000
END:STANDARD
BEGIN:DAYLIGHT
TZOFFSETFROM:+0100
TZOFFSETTO:+0200
TZNAME:CEST
DTSTART:20180325T010000
END:DAYLIGHT
BEGIN:STANDARD
TZOFFSETFROM:+0200
TZOFFSETTO:+0100
TZNAME:CET
DTSTART:20181028T010000
END:STANDARD
END:VTIMEZONE
BEGIN:VEVENT
DTSTART;TZID=Europe/Paris:20171008T170000
DTEND;TZID=Europe/Paris:20171008T190000
DTSTAMP:20260426T064025
CREATED:20171013T143624Z
LAST-MODIFIED:20171013T164459Z
UID:117-1507482000-1507489200@www.lwo.lu
SUMMARY:Concert d'Inauguration
DESCRIPTION:Den Orchester presentéiert sech hei mat engem interessante Programm déi 1. Kéier dem Public.\nPremière vum Stéck „Trigger“\, eng Commande vum LWO un de lëtzebuerger Komponist Marco Pütz an Solist vum Concert ass de Marc Meyers op der Trombone.
URL:https://www.lwo.lu/cms-site/event/concert-dinauguration/
LOCATION:Conservatoire de Luxembourg\, 33\, rue Charles Martel\, Luxembourg\, 2134\, Luxemburg
ATTACH;FMTTYPE=image/jpeg:https://www.lwo.lu/cms-site/wp-content/uploads/2017/07/IMG_5877.jpg
ORGANIZER;CN="LWO":MAILTO:info@lwo.lu
END:VEVENT
END:VCALENDAR