BEGIN:VCALENDAR
VERSION:2.0
PRODID:-//LWO - ECPv6.15.20//NONSGML v1.0//EN
CALSCALE:GREGORIAN
METHOD:PUBLISH
X-WR-CALNAME:LWO
X-ORIGINAL-URL:https://www.lwo.lu/cms-site
X-WR-CALDESC:Veranstaltungen für LWO
REFRESH-INTERVAL;VALUE=DURATION:PT1H
X-Robots-Tag:noindex
X-PUBLISHED-TTL:PT1H
BEGIN:VTIMEZONE
TZID:Europe/Paris
BEGIN:DAYLIGHT
TZOFFSETFROM:+0100
TZOFFSETTO:+0200
TZNAME:CEST
DTSTART:20180325T010000
END:DAYLIGHT
BEGIN:STANDARD
TZOFFSETFROM:+0200
TZOFFSETTO:+0100
TZNAME:CET
DTSTART:20181028T010000
END:STANDARD
BEGIN:DAYLIGHT
TZOFFSETFROM:+0100
TZOFFSETTO:+0200
TZNAME:CEST
DTSTART:20190331T010000
END:DAYLIGHT
BEGIN:STANDARD
TZOFFSETFROM:+0200
TZOFFSETTO:+0100
TZNAME:CET
DTSTART:20191027T010000
END:STANDARD
BEGIN:DAYLIGHT
TZOFFSETFROM:+0100
TZOFFSETTO:+0200
TZNAME:CEST
DTSTART:20200329T010000
END:DAYLIGHT
BEGIN:STANDARD
TZOFFSETFROM:+0200
TZOFFSETTO:+0100
TZNAME:CET
DTSTART:20201025T010000
END:STANDARD
END:VTIMEZONE
BEGIN:VEVENT
DTSTART;TZID=Europe/Paris:20190626T210000
DTEND;TZID=Europe/Paris:20190626T223000
DTSTAMP:20260424T223554
CREATED:20190617T083440Z
LAST-MODIFIED:20190617T124502Z
UID:350-1561582800-1561588200@www.lwo.lu
SUMMARY:Open-Air Concert: 19th Century Russian Showpieces
DESCRIPTION:  \n  \n  \n  \nLes amateurs de musique russe peuvent découvrir lors de ce concert en plein air à l’Abbaye 𝘾𝙤𝙧𝙤𝙣𝙖𝙩𝙞𝙤𝙣 𝙈𝙖𝙧𝙘𝙝 𝙙𝙚 𝙋.𝙄. 𝙏𝙘𝙝𝙖𝙞𝙠𝙤𝙫𝙨𝙠𝙮\, 𝘾𝙖𝙥𝙧𝙞𝙘𝙘𝙞𝙤 𝙚𝙨𝙥𝙖𝙜𝙣𝙤𝙡 𝙙𝙚 𝙉. 𝙍𝙞𝙢𝙨𝙠𝙮-𝙆𝙤𝙧𝙨𝙖𝙠𝙤𝙫\, 𝙋𝙞𝙘𝙩𝙪𝙧𝙚𝙨 𝙖𝙩 𝙖𝙣 𝙀𝙭𝙝𝙞𝙗𝙞𝙩𝙞𝙤𝙣 𝙙𝙚 𝙈. 𝙈𝙪𝙨𝙨𝙤𝙧𝙜𝙨𝙠𝙮 𝟏𝟖𝟏𝟐 ainsi que 𝙊𝙫𝙚𝙧𝙩𝙪𝙧𝙚 𝙙𝙚 𝙋.𝙄. 𝙏𝙘𝙝𝙖𝙞𝙠𝙤𝙫𝙨𝙠𝙮. \nConcert en plein air / assis\n𝐓𝐢𝐜𝐤𝐞𝐭𝐬: 10€ / Entrée gratuite 10 ans et moins (ticket obligatoire)\n𝐁𝐢𝐥𝐥𝐞𝐭𝐭𝐞𝐫𝐢𝐞: bit.ly/bock-op-lwo\n𝐈𝐧𝐟𝐨𝐬: billetterie@neimenster.lu / Tel : +352 262052-444
URL:https://www.lwo.lu/cms-site/event/open-air-concert-19th-century-russian-showpieces/
LOCATION:Neimënster\, 28\, rue Münster\, Luxembourg\, 2160\, Luxemburg
END:VEVENT
END:VCALENDAR