BEGIN:VCALENDAR
VERSION:2.0
PRODID:-//LWO - ECPv6.15.20//NONSGML v1.0//EN
CALSCALE:GREGORIAN
METHOD:PUBLISH
X-ORIGINAL-URL:https://www.lwo.lu/cms-site
X-WR-CALDESC:Veranstaltungen für LWO
REFRESH-INTERVAL;VALUE=DURATION:PT1H
X-Robots-Tag:noindex
X-PUBLISHED-TTL:PT1H
BEGIN:VTIMEZONE
TZID:Europe/Paris
BEGIN:DAYLIGHT
TZOFFSETFROM:+0100
TZOFFSETTO:+0200
TZNAME:CEST
DTSTART:20190331T010000
END:DAYLIGHT
BEGIN:STANDARD
TZOFFSETFROM:+0200
TZOFFSETTO:+0100
TZNAME:CET
DTSTART:20191027T010000
END:STANDARD
BEGIN:DAYLIGHT
TZOFFSETFROM:+0100
TZOFFSETTO:+0200
TZNAME:CEST
DTSTART:20200329T010000
END:DAYLIGHT
BEGIN:STANDARD
TZOFFSETFROM:+0200
TZOFFSETTO:+0100
TZNAME:CET
DTSTART:20201025T010000
END:STANDARD
BEGIN:DAYLIGHT
TZOFFSETFROM:+0100
TZOFFSETTO:+0200
TZNAME:CEST
DTSTART:20210328T010000
END:DAYLIGHT
BEGIN:STANDARD
TZOFFSETFROM:+0200
TZOFFSETTO:+0100
TZNAME:CET
DTSTART:20211031T010000
END:STANDARD
END:VTIMEZONE
BEGIN:VEVENT
DTSTART;TZID=Europe/Paris:20200111T200000
DTEND;TZID=Europe/Paris:20200111T220000
DTSTAMP:20260424T234956
CREATED:20190618T123019Z
LAST-MODIFIED:20190618T123019Z
UID:374-1578772800-1578780000@www.lwo.lu
SUMMARY:Concert de Nouvel An 2020 am Cercle Cité
DESCRIPTION:Detailer kommen no. \n 
URL:https://www.lwo.lu/cms-site/event/concert-de-nouvel-an-2020-am-cercle-cite/
LOCATION:Cercle Cité\, 2\, rue Genistre\, Luxembourg\, 1623\, Luxemburg
END:VEVENT
END:VCALENDAR