BEGIN:VCALENDAR
VERSION:2.0
PRODID:-//LWO - ECPv6.15.20//NONSGML v1.0//EN
CALSCALE:GREGORIAN
METHOD:PUBLISH
X-ORIGINAL-URL:https://www.lwo.lu/cms-site
X-WR-CALDESC:Veranstaltungen für LWO
REFRESH-INTERVAL;VALUE=DURATION:PT1H
X-Robots-Tag:noindex
X-PUBLISHED-TTL:PT1H
BEGIN:VTIMEZONE
TZID:Europe/Paris
BEGIN:DAYLIGHT
TZOFFSETFROM:+0100
TZOFFSETTO:+0200
TZNAME:CEST
DTSTART:20210328T010000
END:DAYLIGHT
BEGIN:STANDARD
TZOFFSETFROM:+0200
TZOFFSETTO:+0100
TZNAME:CET
DTSTART:20211031T010000
END:STANDARD
BEGIN:DAYLIGHT
TZOFFSETFROM:+0100
TZOFFSETTO:+0200
TZNAME:CEST
DTSTART:20220327T010000
END:DAYLIGHT
BEGIN:STANDARD
TZOFFSETFROM:+0200
TZOFFSETTO:+0100
TZNAME:CET
DTSTART:20221030T010000
END:STANDARD
BEGIN:DAYLIGHT
TZOFFSETFROM:+0100
TZOFFSETTO:+0200
TZNAME:CEST
DTSTART:20230326T010000
END:DAYLIGHT
BEGIN:STANDARD
TZOFFSETFROM:+0200
TZOFFSETTO:+0100
TZNAME:CET
DTSTART:20231029T010000
END:STANDARD
END:VTIMEZONE
BEGIN:VEVENT
DTSTART;TZID=Europe/Paris:20220312T200000
DTEND;TZID=Europe/Paris:20220312T220000
DTSTAMP:20260424T234953
CREATED:20220210T075429Z
LAST-MODIFIED:20220216T140601Z
UID:409-1647115200-1647122400@www.lwo.lu
SUMMARY:Concert Philharmonie: HOPE
DESCRIPTION:Ticket:\nhttps://www.philharmonie.lu/de/programm/hope-luxembourg-wind-orchestra/3502
URL:https://www.lwo.lu/cms-site/event/concert-philharmonie-hope/
LOCATION:Philharmonie de Luxembourg\, 1\, place de l'Europe\, Luxembourg\, 1499\, Luxemburg
END:VEVENT
END:VCALENDAR